BEGIN:VCALENDAR
VERSION:2.0
PRODID:-//Adriaan Hoek - ECPv6.3.7//NONSGML v1.0//EN
CALSCALE:GREGORIAN
METHOD:PUBLISH
X-WR-CALNAME:Adriaan Hoek
X-ORIGINAL-URL:https://www.adriaanhoek.nl
X-WR-CALDESC:Evenementen voor Adriaan Hoek
REFRESH-INTERVAL;VALUE=DURATION:PT1H
X-Robots-Tag:noindex
X-PUBLISHED-TTL:PT1H
BEGIN:VTIMEZONE
TZID:Europe/Amsterdam
BEGIN:DAYLIGHT
TZOFFSETFROM:+0100
TZOFFSETTO:+0200
TZNAME:CEST
DTSTART:20240331T010000
END:DAYLIGHT
BEGIN:STANDARD
TZOFFSETFROM:+0200
TZOFFSETTO:+0100
TZNAME:CET
DTSTART:20241027T010000
END:STANDARD
END:VTIMEZONE
BEGIN:VEVENT
DTSTART;TZID=Europe/Amsterdam:20240602T170000
DTEND;TZID=Europe/Amsterdam:20240602T180000
DTSTAMP:20260424T063445
CREATED:20240217T170517Z
LAST-MODIFIED:20240327T203033Z
UID:1539-1717347600-1717351200@www.adriaanhoek.nl
SUMMARY:Sint-Catharijnekerk Brielle
DESCRIPTION:
URL:https://www.adriaanhoek.nl/event/evensong-sint-catharijnekerk-brielle/
END:VEVENT
END:VCALENDAR