BEGIN:VCALENDAR
VERSION:2.0
PRODID:-//Adriaan Hoek - ECPv6.3.7//NONSGML v1.0//EN
CALSCALE:GREGORIAN
METHOD:PUBLISH
X-ORIGINAL-URL:https://www.adriaanhoek.nl
X-WR-CALDESC:Evenementen voor Adriaan Hoek
REFRESH-INTERVAL;VALUE=DURATION:PT1H
X-Robots-Tag:noindex
X-PUBLISHED-TTL:PT1H
BEGIN:VTIMEZONE
TZID:Europe/Amsterdam
BEGIN:DAYLIGHT
TZOFFSETFROM:+0100
TZOFFSETTO:+0200
TZNAME:CEST
DTSTART:20240331T010000
END:DAYLIGHT
BEGIN:STANDARD
TZOFFSETFROM:+0200
TZOFFSETTO:+0100
TZNAME:CET
DTSTART:20241027T010000
END:STANDARD
END:VTIMEZONE
BEGIN:VEVENT
DTSTART;TZID=Europe/Amsterdam:20241011T200000
DTEND;TZID=Europe/Amsterdam:20241011T210000
DTSTAMP:20260424T002418
CREATED:20231128T115541Z
LAST-MODIFIED:20231128T115541Z
UID:1501-1728676800-1728680400@www.adriaanhoek.nl
SUMMARY:Immanuelkerk Maassluis
DESCRIPTION:
URL:https://www.adriaanhoek.nl/event/immanuelkerk-maassluis/
END:VEVENT
END:VCALENDAR