BEGIN:VCALENDAR
VERSION:2.0
PRODID:-//Adriaan Hoek - ECPv6.3.7//NONSGML v1.0//EN
CALSCALE:GREGORIAN
METHOD:PUBLISH
X-WR-CALNAME:Adriaan Hoek
X-ORIGINAL-URL:https://www.adriaanhoek.nl
X-WR-CALDESC:Evenementen voor Adriaan Hoek
REFRESH-INTERVAL;VALUE=DURATION:PT1H
X-Robots-Tag:noindex
X-PUBLISHED-TTL:PT1H
BEGIN:VTIMEZONE
TZID:Europe/Amsterdam
BEGIN:DAYLIGHT
TZOFFSETFROM:+0100
TZOFFSETTO:+0200
TZNAME:CEST
DTSTART:20240331T010000
END:DAYLIGHT
BEGIN:STANDARD
TZOFFSETFROM:+0200
TZOFFSETTO:+0100
TZNAME:CET
DTSTART:20241027T010000
END:STANDARD
END:VTIMEZONE
BEGIN:VEVENT
DTSTART;TZID=Europe/Amsterdam:20241127T143000
DTEND;TZID=Europe/Amsterdam:20241127T153000
DTSTAMP:20260423T225302
CREATED:20240912T141427Z
LAST-MODIFIED:20240912T141507Z
UID:1586-1732717800-1732721400@www.adriaanhoek.nl
SUMMARY:Concertgebouw de Doelen Rotterdam
DESCRIPTION:https://www.dedoelen.nl/nl/agenda/22566/bach-s-meesterwerk-op-het-doelen-orgel/de-goldberg-variaties
URL:https://www.adriaanhoek.nl/event/concertgebouw-de-doelen-rotterdam-4/
END:VEVENT
END:VCALENDAR