BEGIN:VCALENDAR
VERSION:2.0
PRODID:-//Adriaan Hoek - ECPv6.3.7//NONSGML v1.0//EN
CALSCALE:GREGORIAN
METHOD:PUBLISH
X-ORIGINAL-URL:https://www.adriaanhoek.nl
X-WR-CALDESC:Evenementen voor Adriaan Hoek
REFRESH-INTERVAL;VALUE=DURATION:PT1H
X-Robots-Tag:noindex
X-PUBLISHED-TTL:PT1H
BEGIN:VTIMEZONE
TZID:Europe/Amsterdam
BEGIN:DAYLIGHT
TZOFFSETFROM:+0100
TZOFFSETTO:+0200
TZNAME:CEST
DTSTART:20250330T010000
END:DAYLIGHT
BEGIN:STANDARD
TZOFFSETFROM:+0200
TZOFFSETTO:+0100
TZNAME:CET
DTSTART:20251026T010000
END:STANDARD
END:VTIMEZONE
BEGIN:VEVENT
DTSTART;TZID=Europe/Amsterdam:20250219T143000
DTEND;TZID=Europe/Amsterdam:20250219T153000
DTSTAMP:20260423T174313
CREATED:20240912T163816Z
LAST-MODIFIED:20241031T192026Z
UID:1591-1739975400-1739979000@www.adriaanhoek.nl
SUMMARY:Concertgebouw de Doelen
DESCRIPTION:https://www.dedoelen.nl/nl/agenda/22567/van-fratres-tot-spiegel-im-spiegel/part-op-het-doelen-orgel
URL:https://www.adriaanhoek.nl/event/concertgebouw-de-doelen-concertgebouw/
END:VEVENT
END:VCALENDAR