BEGIN:VCALENDAR
VERSION:2.0
PRODID:-//Adriaan Hoek - ECPv6.3.7//NONSGML v1.0//EN
CALSCALE:GREGORIAN
METHOD:PUBLISH
X-WR-CALNAME:Adriaan Hoek
X-ORIGINAL-URL:https://www.adriaanhoek.nl
X-WR-CALDESC:Evenementen voor Adriaan Hoek
REFRESH-INTERVAL;VALUE=DURATION:PT1H
X-Robots-Tag:noindex
X-PUBLISHED-TTL:PT1H
BEGIN:VTIMEZONE
TZID:Europe/Amsterdam
BEGIN:DAYLIGHT
TZOFFSETFROM:+0100
TZOFFSETTO:+0200
TZNAME:CEST
DTSTART:20250330T010000
END:DAYLIGHT
BEGIN:STANDARD
TZOFFSETFROM:+0200
TZOFFSETTO:+0100
TZNAME:CET
DTSTART:20251026T010000
END:STANDARD
END:VTIMEZONE
BEGIN:VEVENT
DTSTART;TZID=Europe/Amsterdam:20251210T201500
DTEND;TZID=Europe/Amsterdam:20251210T213000
DTSTAMP:20260423T013744
CREATED:20250316T064043Z
LAST-MODIFIED:20250815T064637Z
UID:1687-1765397700-1765402200@www.adriaanhoek.nl
SUMMARY:Doelen Rotterdam
DESCRIPTION:Muziek\, met name die van Bach\, speelde altijd een rol in het schilderwerk van Paul Klee. In Klee droomt Bach wordt de relatie tussen het werk van Klee en Bach op een unieke manier gepresenteerd. Organist Adriaan Hoek voert orgelwerken van Bach uit. Audiovisueel kunstenaar Marcel Wierckx dompelt het publiek onder in door de computer gegenereerde lichtprojecties\, geïnspireerd op schilderijen van Klee. Tussen de composities van Bach klinken soundscapes\, gecreëerd met artificiële intelligentie.
URL:https://www.adriaanhoek.nl/event/doelen-rotterdam-2/
END:VEVENT
END:VCALENDAR