BEGIN:VCALENDAR
VERSION:2.0
PRODID:-//Adriaan Hoek - ECPv6.3.7//NONSGML v1.0//EN
CALSCALE:GREGORIAN
METHOD:PUBLISH
X-ORIGINAL-URL:https://www.adriaanhoek.nl
X-WR-CALDESC:Evenementen voor Adriaan Hoek
REFRESH-INTERVAL;VALUE=DURATION:PT1H
X-Robots-Tag:noindex
X-PUBLISHED-TTL:PT1H
BEGIN:VTIMEZONE
TZID:Europe/Amsterdam
BEGIN:DAYLIGHT
TZOFFSETFROM:+0100
TZOFFSETTO:+0200
TZNAME:CEST
DTSTART:20260329T010000
END:DAYLIGHT
BEGIN:STANDARD
TZOFFSETFROM:+0200
TZOFFSETTO:+0100
TZNAME:CET
DTSTART:20261025T010000
END:STANDARD
END:VTIMEZONE
BEGIN:VEVENT
DTSTART;TZID=Europe/Amsterdam:20260814T200000
DTEND;TZID=Europe/Amsterdam:20260814T210000
DTSTAMP:20260423T010244
CREATED:20260103T100931Z
LAST-MODIFIED:20260103T100931Z
UID:1792-1786737600-1786741200@www.adriaanhoek.nl
SUMMARY:Nieuwe Kerk Delft
DESCRIPTION:
URL:https://www.adriaanhoek.nl/event/nieuwe-kerk-delft/
END:VEVENT
END:VCALENDAR