BEGIN:VCALENDAR
VERSION:2.0
PRODID:-//Adriaan Hoek - ECPv6.3.7//NONSGML v1.0//EN
CALSCALE:GREGORIAN
METHOD:PUBLISH
X-WR-CALNAME:Adriaan Hoek
X-ORIGINAL-URL:https://www.adriaanhoek.nl
X-WR-CALDESC:Evenementen voor Adriaan Hoek
REFRESH-INTERVAL;VALUE=DURATION:PT1H
X-Robots-Tag:noindex
X-PUBLISHED-TTL:PT1H
BEGIN:VTIMEZONE
TZID:Europe/Amsterdam
BEGIN:DAYLIGHT
TZOFFSETFROM:+0100
TZOFFSETTO:+0200
TZNAME:CEST
DTSTART:20230326T010000
END:DAYLIGHT
BEGIN:STANDARD
TZOFFSETFROM:+0200
TZOFFSETTO:+0100
TZNAME:CET
DTSTART:20231029T010000
END:STANDARD
END:VTIMEZONE
BEGIN:VEVENT
DTSTART;TZID=Europe/Amsterdam:20231206T203000
DTEND;TZID=Europe/Amsterdam:20231206T214500
DTSTAMP:20260422T145948
CREATED:20230606T152629Z
LAST-MODIFIED:20230606T153235Z
UID:1402-1701894600-1701899100@www.adriaanhoek.nl
SUMMARY:Concertgebouw De Doelen Rotterdam
DESCRIPTION:meer informatie: https://www.dedoelen.nl/nl/agenda/20920/Epische_ruimte_soundtracks_op_het_Doelen_orgel/Interstellar_the_Planets_Star_Wars
URL:https://www.adriaanhoek.nl/event/concertgebouw-de-doelen-2/
END:VEVENT
BEGIN:VEVENT
DTSTART;TZID=Europe/Amsterdam:20231220T201500
DTEND;TZID=Europe/Amsterdam:20231220T214500
DTSTAMP:20260422T145948
CREATED:20230223T083204Z
LAST-MODIFIED:20230910T121436Z
UID:1120-1703103300-1703108700@www.adriaanhoek.nl
SUMMARY:Stadhuis Rotterdam
DESCRIPTION:Merry Christbrass met de Pelgrim Brass. \nMeer info zie www.stadsmuziek.nl
URL:https://www.adriaanhoek.nl/event/avondconcert-burgerzaal-stadhuis-rotterdam-3/
ATTACH;FMTTYPE=image/jpeg:https://www.adriaanhoek.nl/wp-content/uploads/2023/02/Pelgrim-Brass-1200x628sq.jpg
END:VEVENT
BEGIN:VEVENT
DTSTART;TZID=Europe/Amsterdam:20231227T110000
DTEND;TZID=Europe/Amsterdam:20231227T140000
DTSTAMP:20260422T145948
CREATED:20230915T174025Z
LAST-MODIFIED:20230915T175332Z
UID:1439-1703674800-1703685600@www.adriaanhoek.nl
SUMMARY:Concertgebouw De Doelen Rotterdam
DESCRIPTION:Bij de workshop leer je hoe zo’n orgel werkt. Samen met andere kinderen ga je zelf een echt werkend orgeltje in elkaar zetten. Adriaan zal daarbij uitleg geven over de verschillende onderdelen en je alles vertellen wat je weten moet over de geschiedenis van het grootste muziekinstrument dat er bestaat. En natuurlijk klinkt er muziek! Na de workshop is er gelegenheid om op het grote Doelenorgel te spelen! \n 
URL:https://www.adriaanhoek.nl/event/workshop-voor-orgel-kids/
END:VEVENT
BEGIN:VEVENT
DTSTART;TZID=Europe/Amsterdam:20231230T160000
DTEND;TZID=Europe/Amsterdam:20231230T170000
DTSTAMP:20260422T145948
CREATED:20221104T155214Z
LAST-MODIFIED:20230915T175521Z
UID:1149-1703952000-1703955600@www.adriaanhoek.nl
SUMMARY:Marekerk Leiden
DESCRIPTION:
URL:https://www.adriaanhoek.nl/event/orgelconcert-marekerk-leiden-5/
ATTACH;FMTTYPE=image/jpeg:https://www.adriaanhoek.nl/wp-content/uploads/2022/11/leidenmarekerk.jpg
END:VEVENT
BEGIN:VEVENT
DTSTART;TZID=Europe/Amsterdam:20231231T130000
DTEND;TZID=Europe/Amsterdam:20231231T140000
DTSTAMP:20260422T145948
CREATED:20230107T194253Z
LAST-MODIFIED:20230317T190023Z
UID:1109-1704027600-1704031200@www.adriaanhoek.nl
SUMMARY:Lutherse kerk Groningen
DESCRIPTION:
URL:https://www.adriaanhoek.nl/event/oudjaarsconcert-lutherse-kerk-groningen/
ATTACH;FMTTYPE=image/jpeg:https://www.adriaanhoek.nl/wp-content/uploads/2023/01/Groningen-LK-02.jpg
END:VEVENT
END:VCALENDAR