BEGIN:VCALENDAR
VERSION:2.0
PRODID:-//Adriaan Hoek - ECPv6.3.7//NONSGML v1.0//EN
CALSCALE:GREGORIAN
METHOD:PUBLISH
X-WR-CALNAME:Adriaan Hoek
X-ORIGINAL-URL:https://www.adriaanhoek.nl
X-WR-CALDESC:Evenementen voor Adriaan Hoek
REFRESH-INTERVAL;VALUE=DURATION:PT1H
X-Robots-Tag:noindex
X-PUBLISHED-TTL:PT1H
BEGIN:VTIMEZONE
TZID:Europe/Amsterdam
BEGIN:DAYLIGHT
TZOFFSETFROM:+0100
TZOFFSETTO:+0200
TZNAME:CEST
DTSTART:20240331T010000
END:DAYLIGHT
BEGIN:STANDARD
TZOFFSETFROM:+0200
TZOFFSETTO:+0100
TZNAME:CET
DTSTART:20241027T010000
END:STANDARD
END:VTIMEZONE
BEGIN:VEVENT
DTSTART;TZID=Europe/Amsterdam:20240706T150000
DTEND;TZID=Europe/Amsterdam:20240706T160000
DTSTAMP:20260424T033554
CREATED:20230917T111439Z
LAST-MODIFIED:20230917T111439Z
UID:1481-1720278000-1720281600@www.adriaanhoek.nl
SUMMARY:Lambertusbasiliek Hengelo
DESCRIPTION:
URL:https://www.adriaanhoek.nl/event/lambertusbasiliek-hengelo/
END:VEVENT
BEGIN:VEVENT
DTSTART;TZID=Europe/Amsterdam:20240713T200000
DTEND;TZID=Europe/Amsterdam:20240713T210000
DTSTAMP:20260424T033554
CREATED:20230915T175034Z
LAST-MODIFIED:20240712T133952Z
UID:1465-1720900800-1720904400@www.adriaanhoek.nl
SUMMARY:HHK Putten
DESCRIPTION:Meer informatie zie  https://hhgputten.nl/orgel/
URL:https://www.adriaanhoek.nl/event/hhk-putten/
END:VEVENT
BEGIN:VEVENT
DTSTART;TZID=Europe/Amsterdam:20240718T200000
DTEND;TZID=Europe/Amsterdam:20240718T210000
DTSTAMP:20260424T033554
CREATED:20231030T101747Z
LAST-MODIFIED:20231030T101747Z
UID:1496-1721332800-1721336400@www.adriaanhoek.nl
SUMMARY:Koepelkerk Smilde
DESCRIPTION:
URL:https://www.adriaanhoek.nl/event/koepelkerk-smilde/
END:VEVENT
BEGIN:VEVENT
DTSTART;TZID=Europe/Amsterdam:20240723T200000
DTEND;TZID=Europe/Amsterdam:20240723T210000
DTSTAMP:20260424T033554
CREATED:20240215T065037Z
LAST-MODIFIED:20240712T134107Z
UID:1537-1721764800-1721768400@www.adriaanhoek.nl
SUMMARY:Grote Kerk Nijkerk
DESCRIPTION:meer informatie https://www.orgelnijkerk.nl/concertagenda.html
URL:https://www.adriaanhoek.nl/event/grote-kerk-nijkerk/
END:VEVENT
BEGIN:VEVENT
DTSTART;TZID=Europe/Amsterdam:20240725T201500
DTEND;TZID=Europe/Amsterdam:20240725T213000
DTSTAMP:20260424T033554
CREATED:20240712T134318Z
LAST-MODIFIED:20240712T134318Z
UID:1571-1721938500-1721943000@www.adriaanhoek.nl
SUMMARY:Oude Jeroenskerk Noordwijk
DESCRIPTION:Meer informatie zie https://www.knipscheerorgel-noordwijk.nl/programmas/20240725.html
URL:https://www.adriaanhoek.nl/event/oude-jeroenskerk-noordwijk/
END:VEVENT
END:VCALENDAR