BEGIN:VCALENDAR
VERSION:2.0
PRODID:-//Adriaan Hoek - ECPv6.3.7//NONSGML v1.0//EN
CALSCALE:GREGORIAN
METHOD:PUBLISH
X-WR-CALNAME:Adriaan Hoek
X-ORIGINAL-URL:https://www.adriaanhoek.nl
X-WR-CALDESC:Evenementen voor Adriaan Hoek
REFRESH-INTERVAL;VALUE=DURATION:PT1H
X-Robots-Tag:noindex
X-PUBLISHED-TTL:PT1H
BEGIN:VTIMEZONE
TZID:Europe/Amsterdam
BEGIN:DAYLIGHT
TZOFFSETFROM:+0100
TZOFFSETTO:+0200
TZNAME:CEST
DTSTART:20240331T010000
END:DAYLIGHT
BEGIN:STANDARD
TZOFFSETFROM:+0200
TZOFFSETTO:+0100
TZNAME:CET
DTSTART:20241027T010000
END:STANDARD
END:VTIMEZONE
BEGIN:VEVENT
DTSTART;TZID=Europe/Amsterdam:20241109T153000
DTEND;TZID=Europe/Amsterdam:20241109T163000
DTSTAMP:20260423T211830
CREATED:20231213T102037Z
LAST-MODIFIED:20231219T093904Z
UID:1517-1731166200-1731169800@www.adriaanhoek.nl
SUMMARY:Abdijkerk Den Haag Loosduinen
DESCRIPTION:
URL:https://www.adriaanhoek.nl/event/abdijkerk-den-haag-loosduinen/
END:VEVENT
BEGIN:VEVENT
DTSTART;TZID=Europe/Amsterdam:20241118T201500
DTEND;TZID=Europe/Amsterdam:20241118T220000
DTSTAMP:20260423T211830
CREATED:20240119T202753Z
LAST-MODIFIED:20240119T202753Z
UID:1530-1731960900-1731967200@www.adriaanhoek.nl
SUMMARY:Burgerzaal Stadhuis Rotterdam
DESCRIPTION:
URL:https://www.adriaanhoek.nl/event/burgerzaal-stadhuis-rotterdam-4/
END:VEVENT
BEGIN:VEVENT
DTSTART;TZID=Europe/Amsterdam:20241123T200000
DTEND;TZID=Europe/Amsterdam:20241123T210000
DTSTAMP:20260423T211830
CREATED:20240912T163214Z
LAST-MODIFIED:20240912T163214Z
UID:1589-1732392000-1732395600@www.adriaanhoek.nl
SUMMARY:Dorpskerk Ouderkerk aan den IJssel
DESCRIPTION:
URL:https://www.adriaanhoek.nl/event/dorpskerk-ouderkerk-aan-den-ijssel/
END:VEVENT
BEGIN:VEVENT
DTSTART;TZID=Europe/Amsterdam:20241127T143000
DTEND;TZID=Europe/Amsterdam:20241127T153000
DTSTAMP:20260423T211830
CREATED:20240912T141427Z
LAST-MODIFIED:20240912T141507Z
UID:1586-1732717800-1732721400@www.adriaanhoek.nl
SUMMARY:Concertgebouw de Doelen Rotterdam
DESCRIPTION:https://www.dedoelen.nl/nl/agenda/22566/bach-s-meesterwerk-op-het-doelen-orgel/de-goldberg-variaties
URL:https://www.adriaanhoek.nl/event/concertgebouw-de-doelen-rotterdam-4/
END:VEVENT
END:VCALENDAR