BEGIN:VCALENDAR
VERSION:2.0
PRODID:-//Adriaan Hoek - ECPv6.3.7//NONSGML v1.0//EN
CALSCALE:GREGORIAN
METHOD:PUBLISH
X-ORIGINAL-URL:https://www.adriaanhoek.nl
X-WR-CALDESC:Evenementen voor Adriaan Hoek
REFRESH-INTERVAL;VALUE=DURATION:PT1H
X-Robots-Tag:noindex
X-PUBLISHED-TTL:PT1H
BEGIN:VTIMEZONE
TZID:Europe/Amsterdam
BEGIN:DAYLIGHT
TZOFFSETFROM:+0100
TZOFFSETTO:+0200
TZNAME:CEST
DTSTART:20250330T010000
END:DAYLIGHT
BEGIN:STANDARD
TZOFFSETFROM:+0200
TZOFFSETTO:+0100
TZNAME:CET
DTSTART:20251026T010000
END:STANDARD
END:VTIMEZONE
BEGIN:VEVENT
DTSTART;TZID=Europe/Amsterdam:20250602T200000
DTEND;TZID=Europe/Amsterdam:20250602T211500
DTSTAMP:20260423T101003
CREATED:20250411T174429Z
LAST-MODIFIED:20250411T174429Z
UID:1702-1748894400-1748898900@www.adriaanhoek.nl
SUMMARY:Grote of Sint-Michaëlskerk Oudewater
DESCRIPTION:
URL:https://www.adriaanhoek.nl/event/grote-of-sint-michaelskerk-oudewater/
END:VEVENT
BEGIN:VEVENT
DTSTART;VALUE=DATE:20250607
DTEND;VALUE=DATE:20250608
DTSTAMP:20260423T101003
CREATED:20250125T181705Z
LAST-MODIFIED:20250125T181705Z
UID:1623-1749254400-1749340799@www.adriaanhoek.nl
SUMMARY:Leidse Orgeldag
DESCRIPTION:
URL:https://www.adriaanhoek.nl/event/leidse-orgeldag-3/
END:VEVENT
BEGIN:VEVENT
DTSTART;VALUE=DATE:20250621
DTEND;VALUE=DATE:20250622
DTSTAMP:20260423T101003
CREATED:20241017T063853Z
LAST-MODIFIED:20241017T063853Z
UID:1596-1750464000-1750550399@www.adriaanhoek.nl
SUMMARY:Orgelexursie Alkmaar
DESCRIPTION:
URL:https://www.adriaanhoek.nl/event/orgelexursie-alkmaar/
END:VEVENT
BEGIN:VEVENT
DTSTART;TZID=Europe/Amsterdam:20250623T124500
DTEND;TZID=Europe/Amsterdam:20250623T133000
DTSTAMP:20260423T101003
CREATED:20250125T182122Z
LAST-MODIFIED:20250125T182122Z
UID:1628-1750682700-1750685400@www.adriaanhoek.nl
SUMMARY:Burgerzaal Stadhuis Rotterdam
DESCRIPTION:
URL:https://www.adriaanhoek.nl/event/burgerzaal-stadhuis-rotterdam-8/
END:VEVENT
BEGIN:VEVENT
DTSTART;TZID=Europe/Amsterdam:20250628T160000
DTEND;TZID=Europe/Amsterdam:20250628T170000
DTSTAMP:20260423T101003
CREATED:20250207T120604Z
LAST-MODIFIED:20250529T181110Z
UID:1635-1751126400-1751130000@www.adriaanhoek.nl
SUMMARY:Marekerk Leiden
DESCRIPTION:
URL:https://www.adriaanhoek.nl/event/marekerk-leiden-10/
END:VEVENT
END:VCALENDAR