BEGIN:VCALENDAR
VERSION:2.0
PRODID:-//Adriaan Hoek - ECPv6.3.7//NONSGML v1.0//EN
CALSCALE:GREGORIAN
METHOD:PUBLISH
X-WR-CALNAME:Adriaan Hoek
X-ORIGINAL-URL:https://www.adriaanhoek.nl
X-WR-CALDESC:Evenementen voor Adriaan Hoek
REFRESH-INTERVAL;VALUE=DURATION:PT1H
X-Robots-Tag:noindex
X-PUBLISHED-TTL:PT1H
BEGIN:VTIMEZONE
TZID:Europe/Amsterdam
BEGIN:DAYLIGHT
TZOFFSETFROM:+0100
TZOFFSETTO:+0200
TZNAME:CEST
DTSTART:20250330T010000
END:DAYLIGHT
BEGIN:STANDARD
TZOFFSETFROM:+0200
TZOFFSETTO:+0100
TZNAME:CET
DTSTART:20251026T010000
END:STANDARD
END:VTIMEZONE
BEGIN:VEVENT
DTSTART;TZID=Europe/Amsterdam:20250802T200000
DTEND;TZID=Europe/Amsterdam:20250802T213000
DTSTAMP:20260423T064633
CREATED:20240803T141625Z
LAST-MODIFIED:20240803T141625Z
UID:1581-1754164800-1754170200@www.adriaanhoek.nl
SUMMARY:Petruskerk Leens
DESCRIPTION:
URL:https://www.adriaanhoek.nl/event/petruskerk-leens/
END:VEVENT
BEGIN:VEVENT
DTSTART;TZID=Europe/Amsterdam:20250805T201500
DTEND;TZID=Europe/Amsterdam:20250805T213000
DTSTAMP:20260423T064633
CREATED:20250207T184507Z
LAST-MODIFIED:20250207T184507Z
UID:1643-1754424900-1754429400@www.adriaanhoek.nl
SUMMARY:Grote of Sint Nicolaaskerk Brouwershaven
DESCRIPTION:
URL:https://www.adriaanhoek.nl/event/grote-of-sint-nicolaaskerk-brouwershaven/
END:VEVENT
BEGIN:VEVENT
DTSTART;TZID=Europe/Amsterdam:20250809T160000
DTEND;TZID=Europe/Amsterdam:20250809T170000
DTSTAMP:20260423T064633
CREATED:20250108T210127Z
LAST-MODIFIED:20250108T210127Z
UID:1612-1754755200-1754758800@www.adriaanhoek.nl
SUMMARY:Grote of Lebuinuskerk Deventer
DESCRIPTION:
URL:https://www.adriaanhoek.nl/event/grote-of-lebuinuskerk-deventer/
END:VEVENT
BEGIN:VEVENT
DTSTART;TZID=Europe/Amsterdam:20250816T153000
DTEND;TZID=Europe/Amsterdam:20250816T163000
DTSTAMP:20260423T064633
CREATED:20241031T191830Z
LAST-MODIFIED:20241031T191830Z
UID:1599-1755358200-1755361800@www.adriaanhoek.nl
SUMMARY:Domkerk Utrecht
DESCRIPTION:
URL:https://www.adriaanhoek.nl/event/domkerk-utrecht/
END:VEVENT
END:VCALENDAR