BEGIN:VCALENDAR
VERSION:2.0
PRODID:-//Adriaan Hoek - ECPv6.3.7//NONSGML v1.0//EN
CALSCALE:GREGORIAN
METHOD:PUBLISH
X-ORIGINAL-URL:https://www.adriaanhoek.nl
X-WR-CALDESC:Evenementen voor Adriaan Hoek
REFRESH-INTERVAL;VALUE=DURATION:PT1H
X-Robots-Tag:noindex
X-PUBLISHED-TTL:PT1H
BEGIN:VTIMEZONE
TZID:Europe/Amsterdam
BEGIN:DAYLIGHT
TZOFFSETFROM:+0100
TZOFFSETTO:+0200
TZNAME:CEST
DTSTART:20250330T010000
END:DAYLIGHT
BEGIN:STANDARD
TZOFFSETFROM:+0200
TZOFFSETTO:+0100
TZNAME:CET
DTSTART:20251026T010000
END:STANDARD
END:VTIMEZONE
BEGIN:VEVENT
DTSTART;TZID=Europe/Amsterdam:20250906T200000
DTEND;TZID=Europe/Amsterdam:20250906T211500
DTSTAMP:20260423T051752
CREATED:20250613T080954Z
LAST-MODIFIED:20250613T080954Z
UID:1730-1757188800-1757193300@www.adriaanhoek.nl
SUMMARY:Laurentiuskerk Mijnsheerenland
DESCRIPTION:
URL:https://www.adriaanhoek.nl/event/laurentiuskerk-mijnsheerenland/
END:VEVENT
BEGIN:VEVENT
DTSTART;TZID=Europe/Amsterdam:20250908T124500
DTEND;TZID=Europe/Amsterdam:20250908T133000
DTSTAMP:20260423T051752
CREATED:20250316T063713Z
LAST-MODIFIED:20250815T064723Z
UID:1680-1757335500-1757338200@www.adriaanhoek.nl
SUMMARY:Burgerzaal Stadhuis Rotterdam
DESCRIPTION:
URL:https://www.adriaanhoek.nl/event/burgerzaal-stadhuis-rotterdam-10/
END:VEVENT
BEGIN:VEVENT
DTSTART;TZID=Europe/Amsterdam:20250909T193000
DTEND;TZID=Europe/Amsterdam:20250909T203000
DTSTAMP:20260423T051752
CREATED:20250316T063629Z
LAST-MODIFIED:20250316T063629Z
UID:1678-1757446200-1757449800@www.adriaanhoek.nl
SUMMARY:Nieuwe kerk Amsterdam
DESCRIPTION:
URL:https://www.adriaanhoek.nl/event/nieuwe-kerk-amsterdam/
END:VEVENT
BEGIN:VEVENT
DTSTART;TZID=Europe/Amsterdam:20250913T080000
DTEND;TZID=Europe/Amsterdam:20250913T170000
DTSTAMP:20260423T051752
CREATED:20250522T081048Z
LAST-MODIFIED:20250529T181235Z
UID:1711-1757750400-1757782800@www.adriaanhoek.nl
SUMMARY:Sint-Catharijnekerk Brielle
DESCRIPTION:
URL:https://www.adriaanhoek.nl/event/sint-catharijnekerk-brielle/
END:VEVENT
BEGIN:VEVENT
DTSTART;TZID=Europe/Amsterdam:20250918T201500
DTEND;TZID=Europe/Amsterdam:20250918T213000
DTSTAMP:20260423T051752
CREATED:20250608T174303Z
LAST-MODIFIED:20250608T174303Z
UID:1727-1758226500-1758231000@www.adriaanhoek.nl
SUMMARY:Bachfestival Antwerpen
DESCRIPTION:
URL:https://www.adriaanhoek.nl/event/bachfestival-antwerpen/
END:VEVENT
BEGIN:VEVENT
DTSTART;TZID=Europe/Amsterdam:20250920T170000
DTEND;TZID=Europe/Amsterdam:20250920T183000
DTSTAMP:20260423T051752
CREATED:20250522T081201Z
LAST-MODIFIED:20250522T081201Z
UID:1713-1758387600-1758393000@www.adriaanhoek.nl
SUMMARY:Ev.-luth. Kirchengemeinde Preetz (DE)
DESCRIPTION:
URL:https://www.adriaanhoek.nl/event/ev-luth-kirchengemeinde-preetz-de/
END:VEVENT
BEGIN:VEVENT
DTSTART;TZID=Europe/Amsterdam:20250926T200000
DTEND;TZID=Europe/Amsterdam:20250926T223000
DTSTAMP:20260423T051752
CREATED:20250630T173838Z
LAST-MODIFIED:20250630T173838Z
UID:1733-1758916800-1758925800@www.adriaanhoek.nl
SUMMARY:De Doelen in Rotterdam
DESCRIPTION:
URL:https://www.adriaanhoek.nl/event/de-doelen-in-rotterdam/
END:VEVENT
BEGIN:VEVENT
DTSTART;TZID=Europe/Amsterdam:20250927T160000
DTEND;TZID=Europe/Amsterdam:20250927T170000
DTSTAMP:20260423T051752
CREATED:20250108T210209Z
LAST-MODIFIED:20250108T210209Z
UID:1614-1758988800-1758992400@www.adriaanhoek.nl
SUMMARY:Marekerk Leiden
DESCRIPTION:
URL:https://www.adriaanhoek.nl/event/marekerk-leiden-7/
END:VEVENT
BEGIN:VEVENT
DTSTART;TZID=Europe/Amsterdam:20250928T141500
DTEND;TZID=Europe/Amsterdam:20250928T163000
DTSTAMP:20260423T051752
CREATED:20250630T173912Z
LAST-MODIFIED:20250630T173912Z
UID:1735-1759068900-1759077000@www.adriaanhoek.nl
SUMMARY:De Doelen in Rotterdam
DESCRIPTION:
URL:https://www.adriaanhoek.nl/event/de-doelen-in-rotterdam-2/
END:VEVENT
END:VCALENDAR