BEGIN:VCALENDAR
VERSION:2.0
PRODID:-//Adriaan Hoek - ECPv6.3.7//NONSGML v1.0//EN
CALSCALE:GREGORIAN
METHOD:PUBLISH
X-ORIGINAL-URL:https://www.adriaanhoek.nl
X-WR-CALDESC:Evenementen voor Adriaan Hoek
REFRESH-INTERVAL;VALUE=DURATION:PT1H
X-Robots-Tag:noindex
X-PUBLISHED-TTL:PT1H
BEGIN:VTIMEZONE
TZID:Europe/Amsterdam
BEGIN:DAYLIGHT
TZOFFSETFROM:+0100
TZOFFSETTO:+0200
TZNAME:CEST
DTSTART:20250330T010000
END:DAYLIGHT
BEGIN:STANDARD
TZOFFSETFROM:+0200
TZOFFSETTO:+0100
TZNAME:CET
DTSTART:20251026T010000
END:STANDARD
END:VTIMEZONE
BEGIN:VEVENT
DTSTART;TZID=Europe/Amsterdam:20251001T201500
DTEND;TZID=Europe/Amsterdam:20251001T220000
DTSTAMP:20260423T032903
CREATED:20250522T080948Z
LAST-MODIFIED:20250522T080948Z
UID:1709-1759349700-1759356000@www.adriaanhoek.nl
SUMMARY:Burgerzaal Stadhuis Rotterdam
DESCRIPTION:
URL:https://www.adriaanhoek.nl/event/burgerzaal-stadhuis-rotterdam-13/
END:VEVENT
BEGIN:VEVENT
DTSTART;TZID=Europe/Amsterdam:20251004T200000
DTEND;TZID=Europe/Amsterdam:20251004T213000
DTSTAMP:20260423T032903
CREATED:20250808T100433Z
LAST-MODIFIED:20250808T100433Z
UID:1751-1759608000-1759613400@www.adriaanhoek.nl
SUMMARY:Dorpskerk Berkenwoude
DESCRIPTION:
URL:https://www.adriaanhoek.nl/event/dorpskerk-berkenwoude/
END:VEVENT
BEGIN:VEVENT
DTSTART;TZID=Europe/Amsterdam:20251011T150000
DTEND;TZID=Europe/Amsterdam:20251011T160000
DTSTAMP:20260423T032903
CREATED:20250127T185826Z
LAST-MODIFIED:20250127T185826Z
UID:1630-1760194800-1760198400@www.adriaanhoek.nl
SUMMARY:Grote kerk Schiedam
DESCRIPTION:
URL:https://www.adriaanhoek.nl/event/grote-kerk-schiedam/
END:VEVENT
BEGIN:VEVENT
DTSTART;TZID=Europe/Amsterdam:20251015T150000
DTEND;TZID=Europe/Amsterdam:20251015T160000
DTSTAMP:20260423T032903
CREATED:20250316T063827Z
LAST-MODIFIED:20250316T063827Z
UID:1682-1760540400-1760544000@www.adriaanhoek.nl
SUMMARY:Doelen Rotterdam
DESCRIPTION:
URL:https://www.adriaanhoek.nl/event/doelen-rotterdam/
END:VEVENT
BEGIN:VEVENT
DTSTART;TZID=Europe/Amsterdam:20251028T190000
DTEND;TZID=Europe/Amsterdam:20251028T203000
DTSTAMP:20260423T032903
CREATED:20250812T074432Z
LAST-MODIFIED:20251006T173258Z
UID:1753-1761678000-1761683400@www.adriaanhoek.nl
SUMMARY:Budavári Evangélikus Templom\, Budapest
DESCRIPTION:
URL:https://www.adriaanhoek.nl/event/budavari-evangelikus-templom/
END:VEVENT
END:VCALENDAR