BEGIN:VCALENDAR
VERSION:2.0
PRODID:-//Adriaan Hoek - ECPv6.3.7//NONSGML v1.0//EN
CALSCALE:GREGORIAN
METHOD:PUBLISH
X-ORIGINAL-URL:https://www.adriaanhoek.nl
X-WR-CALDESC:Evenementen voor Adriaan Hoek
REFRESH-INTERVAL;VALUE=DURATION:PT1H
X-Robots-Tag:noindex
X-PUBLISHED-TTL:PT1H
BEGIN:VTIMEZONE
TZID:Europe/Amsterdam
BEGIN:DAYLIGHT
TZOFFSETFROM:+0100
TZOFFSETTO:+0200
TZNAME:CEST
DTSTART:20260329T010000
END:DAYLIGHT
BEGIN:STANDARD
TZOFFSETFROM:+0200
TZOFFSETTO:+0100
TZNAME:CET
DTSTART:20261025T010000
END:STANDARD
END:VTIMEZONE
BEGIN:VEVENT
DTSTART;TZID=Europe/Amsterdam:20260801T200000
DTEND;TZID=Europe/Amsterdam:20260801T210000
DTSTAMP:20260422T232726
CREATED:20260115T153953Z
LAST-MODIFIED:20260115T153953Z
UID:1810-1785614400-1785618000@www.adriaanhoek.nl
SUMMARY:Zuiderkerk Enkhuizen
DESCRIPTION:
URL:https://www.adriaanhoek.nl/event/zuiderkerk-enkhuizen/
END:VEVENT
BEGIN:VEVENT
DTSTART;TZID=Europe/Amsterdam:20260804T200000
DTEND;TZID=Europe/Amsterdam:20260804T210000
DTSTAMP:20260422T232726
CREATED:20260225T181540Z
LAST-MODIFIED:20260225T181540Z
UID:1822-1785873600-1785877200@www.adriaanhoek.nl
SUMMARY:Sint-Janskathedraal 's-Hertogenbosch
DESCRIPTION:
URL:https://www.adriaanhoek.nl/event/sint-janskathedraal-s-hertogenbosch/
END:VEVENT
BEGIN:VEVENT
DTSTART;TZID=Europe/Amsterdam:20260810T200000
DTEND;TZID=Europe/Amsterdam:20260810T213000
DTSTAMP:20260422T232726
CREATED:20250916T171521Z
LAST-MODIFIED:20250916T171521Z
UID:1766-1786392000-1786397400@www.adriaanhoek.nl
SUMMARY:Schwaz\, Stadtpfarrkirche Maria Himmelfahrt
DESCRIPTION:
URL:https://www.adriaanhoek.nl/event/schwaz-stadtpfarrkirche-maria-himmelfahrt/
END:VEVENT
BEGIN:VEVENT
DTSTART;TZID=Europe/Amsterdam:20260814T200000
DTEND;TZID=Europe/Amsterdam:20260814T210000
DTSTAMP:20260422T232726
CREATED:20260103T100931Z
LAST-MODIFIED:20260103T100931Z
UID:1792-1786737600-1786741200@www.adriaanhoek.nl
SUMMARY:Nieuwe Kerk Delft
DESCRIPTION:
URL:https://www.adriaanhoek.nl/event/nieuwe-kerk-delft/
END:VEVENT
BEGIN:VEVENT
DTSTART;TZID=Europe/Amsterdam:20260827T200000
DTEND;TZID=Europe/Amsterdam:20260827T210000
DTSTAMP:20260422T232726
CREATED:20251031T211859Z
LAST-MODIFIED:20251031T211859Z
UID:1780-1787860800-1787864400@www.adriaanhoek.nl
SUMMARY:Oude Kerk Barneveld
DESCRIPTION:
URL:https://www.adriaanhoek.nl/event/oude-kerk-barneveld/
END:VEVENT
END:VCALENDAR